BEGIN:VCALENDAR
VERSION:2.0
PRODID:-//Nagelkreuzgemeinschaft in Deutschland e.V. - Nagelkreuz - CCN/D - ECPv6.15.20//NONSGML v1.0//EN
CALSCALE:GREGORIAN
METHOD:PUBLISH
X-ORIGINAL-URL:https://nagelkreuz.de
X-WR-CALDESC:Veranstaltungen für Nagelkreuzgemeinschaft in Deutschland e.V. - Nagelkreuz - CCN/D
REFRESH-INTERVAL;VALUE=DURATION:PT1H
X-Robots-Tag:noindex
X-PUBLISHED-TTL:PT1H
BEGIN:VTIMEZONE
TZID:Europe/Berlin
BEGIN:DAYLIGHT
TZOFFSETFROM:+0100
TZOFFSETTO:+0200
TZNAME:CEST
DTSTART:20250330T010000
END:DAYLIGHT
BEGIN:STANDARD
TZOFFSETFROM:+0200
TZOFFSETTO:+0100
TZNAME:CET
DTSTART:20251026T010000
END:STANDARD
BEGIN:DAYLIGHT
TZOFFSETFROM:+0100
TZOFFSETTO:+0200
TZNAME:CEST
DTSTART:20260329T010000
END:DAYLIGHT
BEGIN:STANDARD
TZOFFSETFROM:+0200
TZOFFSETTO:+0100
TZNAME:CET
DTSTART:20261025T010000
END:STANDARD
BEGIN:DAYLIGHT
TZOFFSETFROM:+0100
TZOFFSETTO:+0200
TZNAME:CEST
DTSTART:20270328T010000
END:DAYLIGHT
BEGIN:STANDARD
TZOFFSETFROM:+0200
TZOFFSETTO:+0100
TZNAME:CET
DTSTART:20271031T010000
END:STANDARD
END:VTIMEZONE
BEGIN:VEVENT
DTSTART;VALUE=DATE:20260227
DTEND;VALUE=DATE:20260301
DTSTAMP:20260426T045148
CREATED:20250315T151132Z
LAST-MODIFIED:20250315T151132Z
UID:14872-1772150400-1772323199@nagelkreuz.de
SUMMARY:Vorstandssitzung
DESCRIPTION:Vorstandssitzung
URL:https://nagelkreuz.de/event/vorstandssitzung
LOCATION:Sievershausen\, Sievershausen\, Deutschland
CATEGORIES:Vorstandssitzung
END:VEVENT
BEGIN:VEVENT
DTSTART;TZID=Europe/Berlin:20260227T160000
DTEND;TZID=Europe/Berlin:20260227T170000
DTSTAMP:20260426T045148
CREATED:20260225T112849Z
LAST-MODIFIED:20260225T112849Z
UID:18106-1772208000-1772211600@nagelkreuz.de
SUMMARY:Bittgottesdienst mit Abendmahl
DESCRIPTION:Gemeinsam beten gibt Kraft und Gemeinschaft. Aber das alleine reicht noch nicht. Die Gemeinde in Odessa stemmt sich mit allem\, was möglich ist\, gegen den immer stärker werdenden Kriegsterror aus Rußland. Um sie zu unterstützten wird Prädikant Ralf Steinke\, Ende April\, nach Odessa reisen. Alleine ein Besuch bestärkt die Menschen dort schon. Flüchtlinge aus der Ost-Ukraine bekommen\, so gut als möglich\, ein Dach über den Kopf\, Essen\, Wärme und Geborgenheit. Deshalb sammeln wir auch Geld. Nur\, wenn die Helfer der Gemeinde genau dann\, wenn sie es brauchen\, genau das\, was sie brauchen\, beschaffen können\, besteht die Chance\, die schlimmen Tage zu meistern. Viele von uns wissen noch\, was es heißt\, Flüchtling zu sein. Und jede Person\, der es ermöglicht wird\, in der geliebten Heimat bleiben zu können\, ist ein Gewinn für alle Beteiligte. \nErwin Gentner gestaltet mit seinem Esemble Giviacco. \nDa die Hofkirche derzeit wegen Renovierungsarbeiten gesperrt ist\, finden die Versöhnungsgebete\, nach der Liturgie von Coventry\, derzeit jeden Freitag\, um 12.00 Uhr\, in der Sakristei der Hofkirche statt.
URL:https://nagelkreuz.de/event/bittgottesdienst-mit-abendmahl
END:VEVENT
END:VCALENDAR