BEGIN:VCALENDAR
VERSION:2.0
PRODID:-//Nagelkreuzgemeinschaft in Deutschland e.V. - Nagelkreuz - CCN/D - ECPv6.15.20//NONSGML v1.0//EN
CALSCALE:GREGORIAN
METHOD:PUBLISH
X-ORIGINAL-URL:https://nagelkreuz.de
X-WR-CALDESC:Veranstaltungen für Nagelkreuzgemeinschaft in Deutschland e.V. - Nagelkreuz - CCN/D
REFRESH-INTERVAL;VALUE=DURATION:PT1H
X-Robots-Tag:noindex
X-PUBLISHED-TTL:PT1H
BEGIN:VTIMEZONE
TZID:Europe/Berlin
BEGIN:DAYLIGHT
TZOFFSETFROM:+0100
TZOFFSETTO:+0200
TZNAME:CEST
DTSTART:20230326T010000
END:DAYLIGHT
BEGIN:STANDARD
TZOFFSETFROM:+0200
TZOFFSETTO:+0100
TZNAME:CET
DTSTART:20231029T010000
END:STANDARD
BEGIN:DAYLIGHT
TZOFFSETFROM:+0100
TZOFFSETTO:+0200
TZNAME:CEST
DTSTART:20240331T010000
END:DAYLIGHT
BEGIN:STANDARD
TZOFFSETFROM:+0200
TZOFFSETTO:+0100
TZNAME:CET
DTSTART:20241027T010000
END:STANDARD
BEGIN:DAYLIGHT
TZOFFSETFROM:+0100
TZOFFSETTO:+0200
TZNAME:CEST
DTSTART:20250330T010000
END:DAYLIGHT
BEGIN:STANDARD
TZOFFSETFROM:+0200
TZOFFSETTO:+0100
TZNAME:CET
DTSTART:20251026T010000
END:STANDARD
BEGIN:DAYLIGHT
TZOFFSETFROM:+0100
TZOFFSETTO:+0200
TZNAME:CEST
DTSTART:20260329T010000
END:DAYLIGHT
BEGIN:STANDARD
TZOFFSETFROM:+0200
TZOFFSETTO:+0100
TZNAME:CET
DTSTART:20261025T010000
END:STANDARD
BEGIN:DAYLIGHT
TZOFFSETFROM:+0100
TZOFFSETTO:+0200
TZNAME:CEST
DTSTART:20270328T010000
END:DAYLIGHT
BEGIN:STANDARD
TZOFFSETFROM:+0200
TZOFFSETTO:+0100
TZNAME:CET
DTSTART:20271031T010000
END:STANDARD
END:VTIMEZONE
BEGIN:VEVENT
DTSTART;TZID=Europe/Berlin:20260418T093000
DTEND;TZID=Europe/Berlin:20260418T161500
DTSTAMP:20260424T155000
CREATED:20260202T130818Z
LAST-MODIFIED:20260305T152729Z
UID:18039-1776504600-1776528900@nagelkreuz.de
SUMMARY:Regionaltreffen Bayern in Nürnberg
DESCRIPTION:Herzliche Einladung zum diesjährigen Regionaltreffen nach Nürnberg! Als ICON-Schule freut sich die Wilhelm-Löhe-Schule darauf\, Vertreterinnen und Vertreter der Nagelkreuzzentren zu einem Tag des Austauschs und der Begegnung zu begrüßen. \nDatum: Samstag\, 18. April 2026\nBeginn: 10:00 Uhr (Ankommen ab 09:30 Uhr bei Kaffee & Brezen)\nOrt: Wilhelm-Löhe-Schule\, Deutschherrnstr. 10\, 90429 Nürnberg\nAnmeldung: Bitte bis zum 28.03.2026 per E-Mail an hans-jochen.maletius@loehe-schule.de. \nProgramm-Highlights\nVormittag: Begrüßung in der Schule\, gemeinsamer Spaziergang nach St. Sebald mit anschließender Kirchenführung und Nagelkreuzandacht.\nMittag: Gemeinsames Mittagessen in einem lokalen Restaurant.\nNachmittag: Nagelkreuzkonferenz mit Berichten aus den Zentren sowie die Vorstellung eines gemeinsamen Projekts der ICON-Schulen PDG Obersulm und WLS Nürnberg.\nAbschluss: Reisesegen und Verabschiedung gegen 16:15 Uhr. \nOrganisatorische Hinweise\nAnreise: Parkplätze sind an der Schule vorhanden. Bei Anreise mit der Bahn (U-Bahn Haltestelle “Plärrer”) ist ein Zustieg zum Programm auch direkt um 11:00 Uhr an der Sebalduskirche möglich.\nKontakt: Pfr. Hans Maletius (Tel: 0911 27082-32).
URL:https://nagelkreuz.de/event/regionaltreffen-bayern-in-nuernberg
LOCATION:Wilhelm-Löhe-Schule Nürnberg\, Deutschherrnstraße 10\, Nürnberg\, Bayern\, 90429
CATEGORIES:Regionaltreffen
END:VEVENT
BEGIN:VEVENT
DTSTART;VALUE=DATE:20260410
DTEND;VALUE=DATE:20260413
DTSTAMP:20260424T155000
CREATED:20260202T131430Z
LAST-MODIFIED:20260202T131430Z
UID:18042-1775779200-1776038399@nagelkreuz.de
SUMMARY:Seminar: „Wo Frieden und Gerechtigkeit sich küssen“ – die Dimension der Gerechtigkeit in der Friedensarbeit
DESCRIPTION:Die Sehnsucht nach Frieden und Gerechtigkeit haben Menschen schon immer vor Gott getragen. Psalm 85 verleiht ihr besonders einprägsam Ausdruck. Wir wollen danach fragen\, was uns als Nagelkreuzgemeinschaft anspornt\, uns für Frieden und Gerechtigkeit einzusetzen. Welchen Beitrag leistet das Völkerrecht? Und wie können wir hier bei uns in den Konflikten unserer Zeit Gräben überwinden\, aufeinander zugehen\, Konflikte überwinden und Gerechtigkeit wachsen lassen? Wir freuen uns auf das gemeinsame Nachdenken mit Ihnen. An diesem Studienwochenende werden wir auch gemeinsam singen und Übungen zum Lesen biblischer Texte anbieten. \n\n\n\n\nAußer den Unterkunftsmöglichkeiten im Kloster selber\, die die Homepage benennt\, gibt es auch Hotels in der Nachbarschaft – in Wittstock und Pritzwalk –\, in denen Gäste unterkommen können.
URL:https://nagelkreuz.de/event/seminar-wo-frieden-und-gerechtigkeit-sich-kuessen-die-dimension-der-gerechtigkeit-in-der-friedensarbeit
LOCATION:Kloster Stift zum Heiligen Grabe\, Stiftgelände 1\, Heiligengrabe\, 16909
END:VEVENT
BEGIN:VEVENT
DTSTART;TZID=Europe/Berlin:20260322T000000
DTEND;TZID=Europe/Berlin:20260322T000000
DTSTAMP:20260424T155000
CREATED:20260202T130627Z
LAST-MODIFIED:20260202T130627Z
UID:18034-1774137600-1774137600@nagelkreuz.de
SUMMARY:Evensong zur Verabschiedung von Dean John
DESCRIPTION:
URL:https://nagelkreuz.de/event/evensong-zur-verabschiedung-von-dean-john
LOCATION:Coventry
END:VEVENT
BEGIN:VEVENT
DTSTART;TZID=Europe/Berlin:20260317T190000
DTEND;TZID=Europe/Berlin:20260317T200000
DTSTAMP:20260424T155000
CREATED:20260225T114054Z
LAST-MODIFIED:20260225T114546Z
UID:18113-1773774000-1773777600@nagelkreuz.de
SUMMARY:Gedenken an Anschlag auf englisches Militärflugzeug im März 1945 (Online-Teilnahme möglich)
DESCRIPTION:Gemeinsam mit Pfarrer Hans Gölz-Eisinger werden wir in einer kleinen Feier der Opfer des Anschlags auf die Crew des englischen Militärflugzeugs im März 1945 gedenken. \n\n\n\nUm unseren Freunden in Wales und Menschen\, die nicht persönlich kommen können\, die Teilnahme an der Feier auch über „Teams“ zu ermöglichen\, hier der entsprechende Link: \nhttps://teams.microsoft.com/meet/3883929263762?p=db 2BxGj30dziIRYPpx \n\n\n\n\nBesprechungs-ID: 388 392 926 376 2 \nPasscode: 44te27v7
URL:https://nagelkreuz.de/event/gedenken-an-anschlag-auf-englisches-militaerflugzeug-im-maerz-1945-online-teilnahme-moeglich
END:VEVENT
BEGIN:VEVENT
DTSTART;TZID=Europe/Berlin:20260228T090000
DTEND;TZID=Europe/Berlin:20260228T183000
DTSTAMP:20260424T155000
CREATED:20260202T132245Z
LAST-MODIFIED:20260202T132245Z
UID:18058-1772269200-1772303400@nagelkreuz.de
SUMMARY:Forum Versöhnung: Wahrhaftigkeit heilt – Versöhnung als kollektive Herausforderung nach zwei Diktaturen in Folge
DESCRIPTION:Versöhnung als kollektive Herausforderung nach zwei Diktaturen in Folge\nEIN FORUM FÜR VERSÖHNUNGSINITIATIVEN UND MENSCHEN MIT SEHNSUCHT NACH WEGEN ZUR VERSÖHNUNG.\nSamstag 28.02.26\, 9:00 – 18:30 Uhr\, Gemeindezentrum der Propsteikirche Chemnitz\, Hohe Straße 1 \nForum und Studientag anschl. Gottesdienst\nDie Wirkung der NS Zeit und der Diktaturen im Ostblock reicht bis heute in Biografien\, Familien-geschichten und ins gesellschaftliche Gefüge hinein. Sie haben uns nachhaltig geschadet. Die Sehnsucht nach Versöhnung bleibt lebendig\, gerade dort\, wo persönliche und gesellschaftliche Schmerzen ungelöst sind.Versöhnungsprozesse bleiben herausfordernd. Unser Forum soll Anregungen geben und Bei-spiele zeigen. Wir möchten Räume der Vernet-zung schaffen – einander kennenlernen\, vonein-ander wissen\, Synergien entdecken. \nReferate\nLeben in einer der säkularisiertesten Regionen der Welt und die Folgen zweier aufeinanderfolgender Diktaturen anhand der Chemnitzer Geschichte\n– Frank Richter (Theologe\, Bürgerrechtler\, Politiker) \nVersöhnliche Erinnerungskultur bewegt vom Blick auf Christus\n– Stephan Tischendorf (Pfarrer\, Nagelkreuzgemeinschaft e.V. ) \nVersöhnliche Erinnerungskultur aus psychohistorischer Perspektive\n– Cornelia Stieler (Psychologin\, SystemischeTherapeutin (SG)\, WaldAkademie Machern) \nHoffnungsgeschichten\nUnbequeme Wahrheit zwischen zwei Freunden aus der ESG: Hartmut Rosinger (ehem. Stasi-IM) & Peter Wulkau (Geschädigter)\,\nDr. Matthias Wanitschke\, Referent politische Bildung\, Thüringer Landesbeauftragter zur Aufarbeitung der\nSED – Diktatur- Initiator des „Opfer-Täter“- Projekts seit 2006 \nAuf der Suche nach der Wahrheit – Nachfahren von Augenzeugen übernehmen Verantwortung\, Schönwalds Erben e.V. \nEingeladen sind\n\nVersöhnungsinitiativen und Menschen mit Sehnsucht nach Wegen zur Versöhnung.\nInitiativen und Vereine\, die sich in der Arbeit mit Zeitzeugen engagieren.\nMenschen\, die in der Seelsorge und Beratung tätig sind.\nMenschen\, die sich für den Zusammenhalt in unserer Gesellschaft engagieren.\n\nAnkommen und Ablauf:\n28.02.2026 \n09:00 bis 18:30 Uhr: Forum im Gemeindezentrum Propsteikirche Chemnitz\, Hohe Straße 1\nanschließend laden wir zur Teilnahme am Fürbittegottesdienst ein. \n19:00 Uhr: Fürbittegottesdienst – in Zusammenarbeit mit der Geistlichen Gemeindeerneuerung in der Evangelisch-Lutherischen Kirche.
URL:https://nagelkreuz.de/event/forum-versoehnung-wahrhaftigkeit-heilt-versoehnung-als-kollektive-herausforderung-nach-zwei-diktaturen-in-folge
LOCATION:Propsteikirche Chemnitz\, Hohe Straße 1\, Chemnitz\, Germany
END:VEVENT
BEGIN:VEVENT
DTSTART;TZID=Europe/Berlin:20260227T160000
DTEND;TZID=Europe/Berlin:20260227T170000
DTSTAMP:20260424T155000
CREATED:20260225T112849Z
LAST-MODIFIED:20260225T112849Z
UID:18106-1772208000-1772211600@nagelkreuz.de
SUMMARY:Bittgottesdienst mit Abendmahl
DESCRIPTION:Gemeinsam beten gibt Kraft und Gemeinschaft. Aber das alleine reicht noch nicht. Die Gemeinde in Odessa stemmt sich mit allem\, was möglich ist\, gegen den immer stärker werdenden Kriegsterror aus Rußland. Um sie zu unterstützten wird Prädikant Ralf Steinke\, Ende April\, nach Odessa reisen. Alleine ein Besuch bestärkt die Menschen dort schon. Flüchtlinge aus der Ost-Ukraine bekommen\, so gut als möglich\, ein Dach über den Kopf\, Essen\, Wärme und Geborgenheit. Deshalb sammeln wir auch Geld. Nur\, wenn die Helfer der Gemeinde genau dann\, wenn sie es brauchen\, genau das\, was sie brauchen\, beschaffen können\, besteht die Chance\, die schlimmen Tage zu meistern. Viele von uns wissen noch\, was es heißt\, Flüchtling zu sein. Und jede Person\, der es ermöglicht wird\, in der geliebten Heimat bleiben zu können\, ist ein Gewinn für alle Beteiligte. \nErwin Gentner gestaltet mit seinem Esemble Giviacco. \nDa die Hofkirche derzeit wegen Renovierungsarbeiten gesperrt ist\, finden die Versöhnungsgebete\, nach der Liturgie von Coventry\, derzeit jeden Freitag\, um 12.00 Uhr\, in der Sakristei der Hofkirche statt.
URL:https://nagelkreuz.de/event/bittgottesdienst-mit-abendmahl
END:VEVENT
BEGIN:VEVENT
DTSTART;VALUE=DATE:20260227
DTEND;VALUE=DATE:20260301
DTSTAMP:20260424T155000
CREATED:20250315T151132Z
LAST-MODIFIED:20250315T151132Z
UID:14872-1772150400-1772323199@nagelkreuz.de
SUMMARY:Vorstandssitzung
DESCRIPTION:Vorstandssitzung
URL:https://nagelkreuz.de/event/vorstandssitzung
LOCATION:Sievershausen\, Sievershausen\, Deutschland
CATEGORIES:Vorstandssitzung
END:VEVENT
BEGIN:VEVENT
DTSTART;VALUE=DATE:20251122
DTEND;VALUE=DATE:20251123
DTSTAMP:20260424T155000
CREATED:20250823T211406Z
LAST-MODIFIED:20250823T211406Z
UID:17164-1763769600-1763855999@nagelkreuz.de
SUMMARY:Versöhnungstag Berlin-Brandenburg
DESCRIPTION:Berlin\, Martin-Luther-Gedächtniskirche
URL:https://nagelkreuz.de/event/versoehnungstag-berlin-brandenburg
LOCATION:Berlin\, Martin-Luther-Gedächtniskirche
CATEGORIES:Versöhnungstag
END:VEVENT
BEGIN:VEVENT
DTSTART;TZID=Europe/Berlin:20251114T194000
DTEND;TZID=Europe/Berlin:20251114T235900
DTSTAMP:20260424T155000
CREATED:20211015T174545Z
LAST-MODIFIED:20241221T223615Z
UID:9041-1763149200-1763164740@nagelkreuz.de
SUMMARY:14. November 1940: Erinnerungstag 'Mondscheinsonate'
DESCRIPTION:Deutscher Bombenangriff ‘Mondscheinsonate’ auf Coventry vor 85 Jahren\n\nAm 14. November 1940 um 19.40 Uhr begann der Angriff der deutschen Luftwaffe auf die britische Stadt Coventry. Es wurden dabei erstmals auch massiv zivile Ziele zerstört\, 500 Menschen kamen in der Nacht ums Leben. Die St. Michael’s Cathedrale wurde völlig zerstört – und nach dem Krieg ein Symbol der Aussöhnung. \nWeitere Informationen bei Wikipedia oder beim Deutschlandfunk.
URL:https://nagelkreuz.de/event/14-november-1940-erinnerungstag-mondscheinsonate-5
LOCATION:Coventry
CATEGORIES:Erinnerungstag
END:VEVENT
BEGIN:VEVENT
DTSTART;VALUE=DATE:20251114
DTEND;VALUE=DATE:20251117
DTSTAMP:20260424T155000
CREATED:20240819T100955Z
LAST-MODIFIED:20241221T223351Z
UID:13193-1763078400-1763337599@nagelkreuz.de
SUMMARY:Mitgliederversammlung
DESCRIPTION:
URL:https://nagelkreuz.de/event/mitgliederversammlung
LOCATION:Münster\, Johanniter-Gästehaus
CATEGORIES:Mitgliederversammlung
END:VEVENT
BEGIN:VEVENT
DTSTART;VALUE=DATE:20251113
DTEND;VALUE=DATE:20251115
DTSTAMP:20260424T155000
CREATED:20240819T100844Z
LAST-MODIFIED:20240819T100844Z
UID:13189-1762992000-1763164799@nagelkreuz.de
SUMMARY:Sitzung des Leitungskreises
DESCRIPTION:
URL:https://nagelkreuz.de/event/sitzung-des-leitungskreises-2
LOCATION:Münster\, Johanniter-Gästehaus
CATEGORIES:Leitungskreistreffen
END:VEVENT
BEGIN:VEVENT
DTSTART;VALUE=DATE:20251112
DTEND;VALUE=DATE:20251116
DTSTAMP:20260424T155000
CREATED:20241221T222456Z
LAST-MODIFIED:20241221T222456Z
UID:14155-1762905600-1763251199@nagelkreuz.de
SUMMARY:Pilgrimage\, Coventry
DESCRIPTION:Weitere Infos finden Sie auf der Homepage der Kathedrale von Coventry
URL:https://nagelkreuz.de/event/pilgrimage-coventry-3
LOCATION:Coventry
CATEGORIES:Pilgrimage
END:VEVENT
BEGIN:VEVENT
DTSTART;VALUE=DATE:20251026
DTEND;VALUE=DATE:20251027
DTSTAMP:20260424T155000
CREATED:20250315T151020Z
LAST-MODIFIED:20250315T151020Z
UID:14868-1761436800-1761523199@nagelkreuz.de
SUMMARY:Übergabe eines Nagelkreuzes
DESCRIPTION:Übergabe eines Nagelkreuzes
URL:https://nagelkreuz.de/event/uebergabe-eines-nagelkreuzes
LOCATION:Stutensee-Weingarten\, Stutensee-Weingarten\, Germany
CATEGORIES:Nagelkreuzübergabe
END:VEVENT
BEGIN:VEVENT
DTSTART;VALUE=DATE:20251024
DTEND;VALUE=DATE:20251025
DTSTAMP:20260424T155000
CREATED:20250315T150933Z
LAST-MODIFIED:20250315T150933Z
UID:14865-1761264000-1761350399@nagelkreuz.de
SUMMARY:Übergabe eines Nagelkreuzes an die Paulskirche/Alte Nikolaikirche
DESCRIPTION:Übergabe eines Nagelkreuzes an die Paulskirche/Alte Nikolaikirche
URL:https://nagelkreuz.de/event/uebergabe-eines-nagelkreuzes-an-die-paulskirche-alte-nikolaikirche
LOCATION:Frankfurt
CATEGORIES:Nagelkreuzübergabe
END:VEVENT
BEGIN:VEVENT
DTSTART;TZID=Europe/Berlin:20251022T080000
DTEND;TZID=Europe/Berlin:20251022T170000
DTSTAMP:20260424T155000
CREATED:20250315T150856Z
LAST-MODIFIED:20250315T150856Z
UID:14861-1761120000-1761152400@nagelkreuz.de
SUMMARY:Übergabe eines Nagelkreuzes an die Stadtkirchengemeinde
DESCRIPTION:Übergabe eines Nagelkreuzes an die Stadtkirchengemeinde
URL:https://nagelkreuz.de/event/uebergabe-eines-nagelkreuzes-an-die-stadtkirchengemeinde
LOCATION:Kassel\, Kassel\, Germany
CATEGORIES:Nagelkreuzübergabe
END:VEVENT
BEGIN:VEVENT
DTSTART;VALUE=DATE:20250928
DTEND;VALUE=DATE:20250929
DTSTAMP:20260424T155000
CREATED:20250315T150743Z
LAST-MODIFIED:20250315T150753Z
UID:14858-1759017600-1759103999@nagelkreuz.de
SUMMARY:Internationaler Nagelkreuzsonntag\, Gestaltung: Kanada
DESCRIPTION:Internationaler Nagelkreuzsonntag\, Gestaltung: Kanada
URL:https://nagelkreuz.de/event/internationaler-nagelkreuzsonntag-gestaltung-kanada
CATEGORIES:Nagelkreuzsonntag
END:VEVENT
BEGIN:VEVENT
DTSTART;VALUE=DATE:20250615
DTEND;VALUE=DATE:20250616
DTSTAMP:20260424T155000
CREATED:20250315T150646Z
LAST-MODIFIED:20250315T150646Z
UID:14855-1749945600-1750031999@nagelkreuz.de
SUMMARY:Einführung von Kate Massey als neue Canon for Arts and Reconciliation
DESCRIPTION:Einführung von Kate Massey als neue Canon for Arts and Reconciliation
URL:https://nagelkreuz.de/event/einfuehrung-von-kate-massey-als-neue-canon-for-arts-and-reconciliation
LOCATION:Coventry
CATEGORIES:Einführung
END:VEVENT
BEGIN:VEVENT
DTSTART;VALUE=DATE:20250614
DTEND;VALUE=DATE:20250615
DTSTAMP:20260424T155000
CREATED:20241221T222545Z
LAST-MODIFIED:20241221T222545Z
UID:14159-1749859200-1749945599@nagelkreuz.de
SUMMARY:Regionaltreffen "West"
DESCRIPTION:
URL:https://nagelkreuz.de/event/regionaltreffen-suedwest-2-3
LOCATION:Lemgo
END:VEVENT
BEGIN:VEVENT
DTSTART;TZID=Europe/Berlin:20250607T180000
DTEND;TZID=Europe/Berlin:20250607T200000
DTSTAMP:20260424T155000
CREATED:20250315T150409Z
LAST-MODIFIED:20250315T150409Z
UID:14848-1749319200-1749326400@nagelkreuz.de
SUMMARY:Übergabe eines Nagelkreuzes an die Gastkirche\, 18 Uhr
DESCRIPTION:Übergabe eines Nagelkreuzes an die Gastkirche\, 18 Uhr
URL:https://nagelkreuz.de/event/uebergabe-eines-nagelkreuzes-an-die-gastkirche-18-uhr
LOCATION:Recklinghausen\, Recklinghausen\, Germany
CATEGORIES:Nagelkreuzübergabe
END:VEVENT
BEGIN:VEVENT
DTSTART;VALUE=DATE:20250607
DTEND;VALUE=DATE:20250608
DTSTAMP:20260424T155000
CREATED:20250315T150559Z
LAST-MODIFIED:20250315T150559Z
UID:14852-1749254400-1749340799@nagelkreuz.de
SUMMARY:Einführung von Sophie Jelley als neue Bischöfin
DESCRIPTION:Einführung von Sophie Jelley als neue Bischöfin
URL:https://nagelkreuz.de/event/einfuehrung-von-sophie-jelley-als-neue-bischoefin
LOCATION:Coventry
CATEGORIES:Einführung
END:VEVENT
BEGIN:VEVENT
DTSTART;VALUE=DATE:20250527
DTEND;VALUE=DATE:20250531
DTSTAMP:20260424T155000
CREATED:20240823T083843Z
LAST-MODIFIED:20240823T084211Z
UID:13223-1748304000-1748649599@nagelkreuz.de
SUMMARY:Pilgrimage\, Coventry
DESCRIPTION:Weitere Infos finden Sie auf der Homepage der Kathedrale von Coventry
URL:https://nagelkreuz.de/event/pilgrimage-coventry
LOCATION:Coventry
CATEGORIES:Pilgrimage
END:VEVENT
BEGIN:VEVENT
DTSTART;VALUE=DATE:20250517
DTEND;VALUE=DATE:20250518
DTSTAMP:20260424T155000
CREATED:20250315T150218Z
LAST-MODIFIED:20250315T150218Z
UID:14845-1747440000-1747526399@nagelkreuz.de
SUMMARY:Regionaltreffen Bayern (voraussichtlich)
DESCRIPTION:Regionaltreffen Bayern (voraussichtlich)
URL:https://nagelkreuz.de/event/regionaltreffen-bayern-voraussichtlich
LOCATION:Neuendettelsau\, Neuendettelsau\, Deutschland
CATEGORIES:Regionaltreffen
END:VEVENT
BEGIN:VEVENT
DTSTART;VALUE=DATE:20250501
DTEND;VALUE=DATE:20250502
DTSTAMP:20260424T155000
CREATED:20250315T150143Z
LAST-MODIFIED:20250315T150143Z
UID:14842-1746057600-1746143999@nagelkreuz.de
SUMMARY:Nagelkreuzgottesdienst\, 14 Uhr\, St. Clement
DESCRIPTION:Nagelkreuzgottesdienst\, 14 Uhr\, St. Clement
URL:https://nagelkreuz.de/event/nagelkreuzgottesdienst-14-uhr-st-clement
LOCATION:Hannover
CATEGORIES:Gottesdienst
END:VEVENT
BEGIN:VEVENT
DTSTART;VALUE=DATE:20250430
DTEND;VALUE=DATE:20250505
DTSTAMP:20260424T155000
CREATED:20241216T182123Z
LAST-MODIFIED:20241221T223154Z
UID:14103-1745971200-1746403199@nagelkreuz.de
SUMMARY:39. Deutscher Evangelischer Kirchentag in Hannover
DESCRIPTION:Vom 30. April bis 4. Mai 2025 findet in Hannover der 39. Deutsche Evangelische Kirchentag statt. Auch in diesem Jahr wird die Nagelkreuzgemeinschaft in Deutschland e. V. wieder mit einem Stand auf dem Markt der Möglichkeiten vertreten sein. \nWeitere Infos -> hier
URL:https://nagelkreuz.de/event/39-deutscher-evangelischer-kirchentag-in-hannover
LOCATION:Hannover
CATEGORIES:Kirchentag
END:VEVENT
BEGIN:VEVENT
DTSTART;VALUE=DATE:20250322
DTEND;VALUE=DATE:20250323
DTSTAMP:20260424T155000
CREATED:20241221T222312Z
LAST-MODIFIED:20241221T222312Z
UID:14151-1742601600-1742687999@nagelkreuz.de
SUMMARY:Regionaltreffen "Nord"
DESCRIPTION:
URL:https://nagelkreuz.de/event/regionaltreffen-suedwest-2-2
LOCATION:Demmin\, Kirchplatz 7\, Demmin\, 17109\, Deutschland
CATEGORIES:Regionaltreffen
END:VEVENT
BEGIN:VEVENT
DTSTART;VALUE=DATE:20250322
DTEND;VALUE=DATE:20250323
DTSTAMP:20260424T155000
CREATED:20240817T094343Z
LAST-MODIFIED:20241221T222506Z
UID:13110-1742601600-1742687999@nagelkreuz.de
SUMMARY:Regionaltreffen "Südwest"
DESCRIPTION:
URL:https://nagelkreuz.de/event/regionaltreffen-suedwest-2
LOCATION:Saarbrücken\, Ludwigskirche
END:VEVENT
BEGIN:VEVENT
DTSTART;VALUE=DATE:20250308
DTEND;VALUE=DATE:20250309
DTSTAMP:20260424T155000
CREATED:20240817T094234Z
LAST-MODIFIED:20241221T223803Z
UID:13106-1741392000-1741478399@nagelkreuz.de
SUMMARY:Regionaltreffen "Mitte"
DESCRIPTION:
URL:https://nagelkreuz.de/event/regionaltreffen-mitte
LOCATION:Chemnitz
END:VEVENT
BEGIN:VEVENT
DTSTART;VALUE=DATE:20250307
DTEND;VALUE=DATE:20250309
DTSTAMP:20260424T155000
CREATED:20240819T100726Z
LAST-MODIFIED:20240819T101057Z
UID:13185-1741305600-1741478399@nagelkreuz.de
SUMMARY:Sitzung des Vorstands
DESCRIPTION:
URL:https://nagelkreuz.de/event/sitzung-des-vorstands
LOCATION:Hannover
CATEGORIES:Vorstandssitzung
END:VEVENT
BEGIN:VEVENT
DTSTART;VALUE=DATE:20241116
DTEND;VALUE=DATE:20241117
DTSTAMP:20260424T155000
CREATED:20240825T110233Z
LAST-MODIFIED:20240825T113052Z
UID:13278-1731715200-1731801599@nagelkreuz.de
SUMMARY:16. Versöhnungstag Berlin-Brandenburg
DESCRIPTION:Weitere Infos finden Sie in der Einladung.
URL:https://nagelkreuz.de/event/16-versoehnungstag-berlin-brandenburg
LOCATION:Berlin\, Kapelle der Versöhnung
CATEGORIES:Versöhnungstag
ATTACH;FMTTYPE=image/png:https://nagelkreuz.de/wp-content/uploads/2024/08/ekv.png
END:VEVENT
BEGIN:VEVENT
DTSTART;VALUE=DATE:20241115
DTEND;VALUE=DATE:20241118
DTSTAMP:20260424T155000
CREATED:20240819T100621Z
LAST-MODIFIED:20240819T100621Z
UID:13181-1731628800-1731887999@nagelkreuz.de
SUMMARY:Sitzung des Leitungskreises
DESCRIPTION:
URL:https://nagelkreuz.de/event/sitzung-des-leitungskreises
LOCATION:Fulda\, Bonifatiushaus
CATEGORIES:Leitungskreistreffen
END:VEVENT
END:VCALENDAR