BEGIN:VCALENDAR
VERSION:2.0
PRODID:-//Nagelkreuzgemeinschaft in Deutschland e.V. - Nagelkreuz - CCN/D - ECPv6.15.20//NONSGML v1.0//EN
CALSCALE:GREGORIAN
METHOD:PUBLISH
X-ORIGINAL-URL:https://nagelkreuz.de
X-WR-CALDESC:Veranstaltungen für Nagelkreuzgemeinschaft in Deutschland e.V. - Nagelkreuz - CCN/D
REFRESH-INTERVAL;VALUE=DURATION:PT1H
X-Robots-Tag:noindex
X-PUBLISHED-TTL:PT1H
BEGIN:VTIMEZONE
TZID:Europe/Berlin
BEGIN:DAYLIGHT
TZOFFSETFROM:+0100
TZOFFSETTO:+0200
TZNAME:CEST
DTSTART:20240331T010000
END:DAYLIGHT
BEGIN:STANDARD
TZOFFSETFROM:+0200
TZOFFSETTO:+0100
TZNAME:CET
DTSTART:20241027T010000
END:STANDARD
BEGIN:DAYLIGHT
TZOFFSETFROM:+0100
TZOFFSETTO:+0200
TZNAME:CEST
DTSTART:20250330T010000
END:DAYLIGHT
BEGIN:STANDARD
TZOFFSETFROM:+0200
TZOFFSETTO:+0100
TZNAME:CET
DTSTART:20251026T010000
END:STANDARD
BEGIN:DAYLIGHT
TZOFFSETFROM:+0100
TZOFFSETTO:+0200
TZNAME:CEST
DTSTART:20260329T010000
END:DAYLIGHT
BEGIN:STANDARD
TZOFFSETFROM:+0200
TZOFFSETTO:+0100
TZNAME:CET
DTSTART:20261025T010000
END:STANDARD
END:VTIMEZONE
BEGIN:VEVENT
DTSTART;VALUE=DATE:20251112
DTEND;VALUE=DATE:20251116
DTSTAMP:20260426T001851
CREATED:20241221T222456Z
LAST-MODIFIED:20241221T222456Z
UID:14155-1762905600-1763251199@nagelkreuz.de
SUMMARY:Pilgrimage\, Coventry
DESCRIPTION:Weitere Infos finden Sie auf der Homepage der Kathedrale von Coventry
URL:https://nagelkreuz.de/event/pilgrimage-coventry-3
LOCATION:Coventry
CATEGORIES:Pilgrimage
END:VEVENT
BEGIN:VEVENT
DTSTART;VALUE=DATE:20251113
DTEND;VALUE=DATE:20251115
DTSTAMP:20260426T001851
CREATED:20240819T100844Z
LAST-MODIFIED:20240819T100844Z
UID:13189-1762992000-1763164799@nagelkreuz.de
SUMMARY:Sitzung des Leitungskreises
DESCRIPTION:
URL:https://nagelkreuz.de/event/sitzung-des-leitungskreises-2
LOCATION:Münster\, Johanniter-Gästehaus
CATEGORIES:Leitungskreistreffen
END:VEVENT
BEGIN:VEVENT
DTSTART;VALUE=DATE:20251114
DTEND;VALUE=DATE:20251117
DTSTAMP:20260426T001851
CREATED:20240819T100955Z
LAST-MODIFIED:20241221T223351Z
UID:13193-1763078400-1763337599@nagelkreuz.de
SUMMARY:Mitgliederversammlung
DESCRIPTION:
URL:https://nagelkreuz.de/event/mitgliederversammlung
LOCATION:Münster\, Johanniter-Gästehaus
CATEGORIES:Mitgliederversammlung
END:VEVENT
BEGIN:VEVENT
DTSTART;TZID=Europe/Berlin:20251114T194000
DTEND;TZID=Europe/Berlin:20251114T235900
DTSTAMP:20260426T001851
CREATED:20211015T174545Z
LAST-MODIFIED:20241221T223615Z
UID:9041-1763149200-1763164740@nagelkreuz.de
SUMMARY:14. November 1940: Erinnerungstag 'Mondscheinsonate'
DESCRIPTION:Deutscher Bombenangriff ‘Mondscheinsonate’ auf Coventry vor 85 Jahren\n\nAm 14. November 1940 um 19.40 Uhr begann der Angriff der deutschen Luftwaffe auf die britische Stadt Coventry. Es wurden dabei erstmals auch massiv zivile Ziele zerstört\, 500 Menschen kamen in der Nacht ums Leben. Die St. Michael’s Cathedrale wurde völlig zerstört – und nach dem Krieg ein Symbol der Aussöhnung. \nWeitere Informationen bei Wikipedia oder beim Deutschlandfunk.
URL:https://nagelkreuz.de/event/14-november-1940-erinnerungstag-mondscheinsonate-5
LOCATION:Coventry
CATEGORIES:Erinnerungstag
END:VEVENT
BEGIN:VEVENT
DTSTART;VALUE=DATE:20251122
DTEND;VALUE=DATE:20251123
DTSTAMP:20260426T001851
CREATED:20250823T211406Z
LAST-MODIFIED:20250823T211406Z
UID:17164-1763769600-1763855999@nagelkreuz.de
SUMMARY:Versöhnungstag Berlin-Brandenburg
DESCRIPTION:Berlin\, Martin-Luther-Gedächtniskirche
URL:https://nagelkreuz.de/event/versoehnungstag-berlin-brandenburg
LOCATION:Berlin\, Martin-Luther-Gedächtniskirche
CATEGORIES:Versöhnungstag
END:VEVENT
END:VCALENDAR